BEGIN:VCALENDAR
PRODID:-//Microsoft Corporation//Outlook MIMEDIR//EN
VERSION:2.0
METHOD:PUBLISH
BEGIN:VEVENT
DTSTART:20260423T100000
DTEND:20260423T110000
DESCRIPTION:
LOCATION:RTA Board Room
SUMMARY:Executive Committee
CATEGORIES:MEETING
END:VEVENT
END:VCALENDAR
